BEGIN:VCALENDAR
VERSION:2.0
PRODID:-// - ECPv5.9.2//NONSGML v1.0//EN
CALSCALE:GREGORIAN
METHOD:PUBLISH
X-ORIGINAL-URL:https://www.feto.fi
X-WR-CALDESC:Tapahtumat 
BEGIN:VTIMEZONE
TZID:Europe/Helsinki
BEGIN:DAYLIGHT
TZOFFSETFROM:+0200
TZOFFSETTO:+0300
TZNAME:EEST
DTSTART:20260329T010000
END:DAYLIGHT
BEGIN:STANDARD
TZOFFSETFROM:+0300
TZOFFSETTO:+0200
TZNAME:EET
DTSTART:20261025T010000
END:STANDARD
END:VTIMEZONE
BEGIN:VEVENT
DTSTART;TZID=Europe/Helsinki:20260601T130000
DTEND;TZID=Europe/Helsinki:20260601T160000
DTSTAMP:20260422T164717
CREATED:20260421T164452Z
LAST-MODIFIED:20260421T164640Z
UID:2630-1780318800-1780329600@www.feto.fi
SUMMARY:Feto lukuvuoden päättäjäiset 1.6. Suomenlinnassa
DESCRIPTION:FETO:n lukuvuoden päättäjäiset pidetään ma 1.6. klo 13-16 perinteiseen tapaan Suomenlinnan Valimo-ravintolassa. \nOhjelmassa tiedossa on parhaiden YO-kirjoittajien palkitsemista\, lounastamista sekä tietenkin kollegoiden tapaamista! \nLounas on omakustanteinen. \nIlmoittautumistiedot tulevat myöhemmin! \nMerkitse samantien kalenteriisi! \nTervetuloa! \n \n\n\n	Aiheeseen liittyy
URL:https://www.feto.fi/tapahtumat/feto-lukuvuoden-paattajaiset-1-6-suomenlinnassa/
END:VEVENT
END:VCALENDAR